BEGIN:VCALENDAR
VERSION:2.0
PRODID:-//Greater Houston Black Chamber - ECPv6.15.20//NONSGML v1.0//EN
CALSCALE:GREGORIAN
METHOD:PUBLISH
X-ORIGINAL-URL:https://ghbcc.com
X-WR-CALDESC:Events for Greater Houston Black Chamber
REFRESH-INTERVAL;VALUE=DURATION:PT1H
X-Robots-Tag:noindex
X-PUBLISHED-TTL:PT1H
BEGIN:VTIMEZONE
TZID:America/Chicago
BEGIN:DAYLIGHT
TZOFFSETFROM:-0600
TZOFFSETTO:-0500
TZNAME:CDT
DTSTART:20240310T080000
END:DAYLIGHT
BEGIN:STANDARD
TZOFFSETFROM:-0500
TZOFFSETTO:-0600
TZNAME:CST
DTSTART:20241103T070000
END:STANDARD
BEGIN:DAYLIGHT
TZOFFSETFROM:-0600
TZOFFSETTO:-0500
TZNAME:CDT
DTSTART:20250309T080000
END:DAYLIGHT
BEGIN:STANDARD
TZOFFSETFROM:-0500
TZOFFSETTO:-0600
TZNAME:CST
DTSTART:20251102T070000
END:STANDARD
BEGIN:DAYLIGHT
TZOFFSETFROM:-0600
TZOFFSETTO:-0500
TZNAME:CDT
DTSTART:20260308T080000
END:DAYLIGHT
BEGIN:STANDARD
TZOFFSETFROM:-0500
TZOFFSETTO:-0600
TZNAME:CST
DTSTART:20261101T070000
END:STANDARD
BEGIN:DAYLIGHT
TZOFFSETFROM:-0600
TZOFFSETTO:-0500
TZNAME:CDT
DTSTART:20270314T080000
END:DAYLIGHT
BEGIN:STANDARD
TZOFFSETFROM:-0500
TZOFFSETTO:-0600
TZNAME:CST
DTSTART:20271107T070000
END:STANDARD
END:VTIMEZONE
BEGIN:VEVENT
DTSTART;TZID=America/Chicago:20260416T173000
DTEND;TZID=America/Chicago:20260416T200000
DTSTAMP:20260420T175336
CREATED:20260326T204150Z
LAST-MODIFIED:20260326T204150Z
UID:30000152-1776360600-1776369600@ghbcc.com
SUMMARY:The Business Exchange Happy Hour & Networking | April 2026
DESCRIPTION:Connecting Houston’s Black Business Leaders: GHBC Networking Happy Hour\nThe Business Exchange is a new monthly happy hour event presented by the Greater Houston Black Chamber designed to bring business professionals and entrepreneurs together in a relaxed environment. This event series is the perfect platform for fostering meaningful connections\, sharing ideas\, and supporting the thriving business community in Houston. \nAttendees can enjoy food and drink specials\, and the chance to expand their professional network in a supportive and dynamic setting. Whether you’re looking to build new partnerships\, gain insights from other business leaders\, or simply unwind after a busy day\, The Business Exchange is the place for you to engage with the Houston small business community. \nEvent Target Audience\n \nSponsorship Opportunities\nJoin us as a sponsor and take advantage of this unique opportunity to connect with Houston’s vibrant business community! \nFor more information or to secure your sponsorship\, please contact: Eryca Harvey Green\, Operations Manager at info@ghbcc.com.
URL:https://ghbcc.com/event/the-business-exchange-happy-hour-networking-april-2026/
LOCATION:Alley Cat\, 3718 Main Street\, Houston\, TX\, 77002\, United States
CATEGORIES:Networking
ATTACH;FMTTYPE=image/jpeg:https://ghbcc.com/wp-content/uploads/2026/02/Business-Ex-e1770411342816.jpg
ORGANIZER;CN="GHBC":MAILTO:info@ghbcc.com
END:VEVENT
BEGIN:VEVENT
DTSTART;TZID=America/Chicago:20260414T113000
DTEND;TZID=America/Chicago:20260414T130000
DTSTAMP:20260420T175336
CREATED:20260115T215503Z
LAST-MODIFIED:20260413T210841Z
UID:30000141-1776166200-1776171600@ghbcc.com
SUMMARY:Network & Nourish: 2nd Tuesday Luncheon | April 2026
DESCRIPTION:Network & Nourish: 2nd Tuesday Luncheon  \nEvent Overview\nJoin us for the Network & Nourish: 2nd Tuesday Luncheon on April 14th\, presented by the Greater Houston Black Chamber and our generous sponsors and supporters. Network and Nourish is monthly gathering designed to bring entrepreneurs\, business leaders\, and professionals together for meaningful connection\, conversation\, and growth. This luncheon creates a welcoming space to network while engaging in timely discussions relevant to today’s business community. Participants can expect thoughtful dialogue\, practical perspectives\, and opportunities to connect with fellow business owners and professionals who share a commitment to growth and community. \nDon’t miss this opportunity to connect with fellow entrepreneurs and gain valuable insights! \nWhy This Event Matters\nIn today’s rapidly evolving business landscape\, it’s more important than ever for black business owners to have access to the resources\, networks\, and support that can help them thrive. The “Network & Nourish” Luncheon is not just another event – it’s a platform to spark meaningful conversations\, exchange ideas\, and foster partnerships that drive growth and opportunity. By coming together\, we amplify the voice of black businesses and create a stronger\, more inclusive Houston. \nWhether you’re looking to expand your network\, showcase your brand\, or sponsor a powerful event that champions diversity and growth\, this luncheon has something for you. Connect with like-minded professionals\, gain valuable insights\, and explore opportunities to elevate your business. \nEvent Target Audience
URL:https://ghbcc.com/event/network-nourish-2nd-tuesday-luncheon-april-2026/
LOCATION:Eldorado Ballroom\, 2310 Elgin St.\, Houston\, TX\, 77004\, United States
CATEGORIES:Networking
ORGANIZER;CN="GHBC":MAILTO:info@ghbcc.com
END:VEVENT
BEGIN:VEVENT
DTSTART;TZID=America/Chicago:20251101T180000
DTEND;TZID=America/Chicago:20251101T220000
DTSTAMP:20260420T175336
CREATED:20241016T202306Z
LAST-MODIFIED:20251023T235727Z
UID:30000077-1762020000-1762034400@ghbcc.com
SUMMARY:2025 Pinnacle Awards
DESCRIPTION:The Wealth Forum: Building Generational Prosperity\nThe Wealth Forum is a full-day\, power-packed experience designed to equip entrepreneurs\, professionals\, and families with the tools to grow\, protect\, and pass on wealth. Through expert-led sessions on investing\, estate planning\, and capital access\, attendees will gain actionable insights to strengthen their financial future. Whether you’re just starting or scaling up\, this forum is your gateway to informed decision-making and lasting impact. \nPinnacle Wealth Forum Ticket Levels:\nGeneral Admission Ticket: $40Admission for one to Pinnacle Wealth Forum \nCollege Edition Admission Ticket: $10Admission for one to Pinnacle Wealth Forum College Edition for College Students and Young Professionals \n  \n			\n				PURCHASE WEALTH FOURM TICKETS\n			\n				\n				\n				\n				\n				Pinnacle Awards Celebration: Honoring Excellence\, Elevating Legacy\nJoin us for an unforgettable celebrating the achievements of Houston’s top African American businesses and leaders. The Pinnacle Awards Gala is the signature event of the season\, where innovation\, resilience\, and legacy take center stage. This elegant ceremony honors the 2025 Pinnacle Award recipients—visionaries who are shaping the future of Black enterprise in our region. Be part of a night filled with inspiration\, recognition\, and community pride. \nPinnacle Award Gala Ticket Levels:\nGeneral Admission Ticket: SOLD OUTAdmission for one to Pinnacle Awards \nPremium Ticket: SOLD OUTMake it a full celebration with access to ALL signature events – Pinnacle Kickoff Reception\, Pinnacle Wealth Forum\, Pinnacle Awards Gala\, and 1-Year Professional Level Membership with GHBC \nGeneral Admission Table: SOLD OUTA table reserved for ten (10) to Pinnacle Awards Gala. \nPremium Table: SOLD OUTOur most elevated group experience includes access to ALL signature events – Pinnacle Kickoff Reception\, Pinnacle Wealth Forum\, Pinnacle Awards Gala\,  PLUS a quarter-page ad in the Pinnacle Souvenir Program Book and 1-Year Small Business Level Membership with GHBC \nCelebrate 90 Years of Black Business Excellence:\nIn honor of the Greater Houston Black Chamber’s 90th Anniversary\, we invite you to make a commemorative contribution of $1\,935\, a tribute to our founding year\, 1935. \nYour generous support helps preserve our legacy and fuel our mission for the next generation of Black entrepreneurs and leaders \nLegacy contributors will receive a special commemorative gift and name recognition on our exclusive 90th Anniversary Legacy Wall. \nPartner with Us:\nJoin the Greater Houston Black Chamber as a sponsor of the 2025 Pinnacle Celebration\, a multi-day tribute to 90 years of impact\, advocacy\, and Black business success in Houston. As a sponsor\, you’ll align your brand with a legacy of impact and connect with a powerful network of entrepreneurs\, professionals\, and community leaders. Your support helps drive economic mobility\, amplify Black voices\, and shape the future of business in Greater Houston. \n			\n				Sponsorship Opportunities
URL:https://ghbcc.com/event/pinnacle-2025/
LOCATION:Bayou Music Center\, 9401 Knight Road\, Houston\, TX\, 77045\, United States
CATEGORIES:Signature Event
ATTACH;FMTTYPE=image/jpeg:https://ghbcc.com/wp-content/uploads/2024/10/PinnacleWAwards2025_RegWebBanner_1160x400.jpg
ORGANIZER;CN="GHBC":MAILTO:info@ghbcc.com
END:VEVENT
BEGIN:VEVENT
DTSTART;TZID=America/Chicago:20251031T090000
DTEND;TZID=America/Chicago:20251031T150000
DTSTAMP:20260420T175336
CREATED:20250429T024047Z
LAST-MODIFIED:20251010T202529Z
UID:30000101-1761901200-1761922800@ghbcc.com
SUMMARY:Pinnacle Wealth Forum: Wealth Reimagined
DESCRIPTION:The Wealth Forum: Building Generational Prosperity\nThe Wealth Forum is a full-day\, power-packed experience designed to equip entrepreneurs\, professionals\, and families with the tools to grow\, protect\, and pass on wealth. Through expert-led sessions on investing\, estate planning\, and capital access\, attendees will gain actionable insights to strengthen their financial future. Whether you’re just starting or scaling up\, this forum is your gateway to informed decision-making and lasting impact. \nReserve your seat today—because your legacy starts now. \nTicket Levels:\nStudent Ticket: $10 (Sale Ends Soon)Admission for one individual 17-24 years old to Pinnacle Wealth Forum.  \nGeneral Admission: $40 (Sale Ends Soon)Admission for one to Pinnacle Wealth Forum.  \nPartner with Us:\nJoin the Greater Houston Black Chamber as a sponsor of the 2025 Pinnacle Celebration\, a multi-day tribute to 90 years of impact\, advocacy\, and Black business success in Houston. As a sponsor\, you’ll align your brand with a legacy of impact and connect with a powerful network of entrepreneurs\, professionals\, and community leaders. Your support helps drive economic mobility\, amplify Black voices\, and shape the future of business in Greater Houston. \n  \n			\n				Sponsorship Opportunities
URL:https://ghbcc.com/event/wealth-forum/
LOCATION:Rice University\, Anderson Clarke Center 6100 Main St\,\, Houston\, TX\, 77005\, United States
CATEGORIES:Signature Event
ATTACH;FMTTYPE=image/png:https://ghbcc.com/wp-content/uploads/2025/04/Wealth-forum.png
ORGANIZER;CN="GHBC":MAILTO:info@ghbcc.com
END:VEVENT
BEGIN:VEVENT
DTSTART;TZID=America/Chicago:20250620T190000
DTEND;TZID=America/Chicago:20250620T210000
DTSTAMP:20260420T175336
CREATED:20250602T175146Z
LAST-MODIFIED:20250602T175337Z
UID:30000110-1750446000-1750453200@ghbcc.com
SUMMARY:The Cypher: TownHall Meeting in Partnership with Legends Do Live
DESCRIPTION:ABOUT THE EVENT\n\n\n\nThe Cypher presented by Legends Do Live & Greater Houston Black Chambers is a transformative town hall event designed to ignite conversations around education\, community\, and culture\, while unveiling solutions that empower Houston’s youth and families. Through an immersive experience featuring discussions\, live demonstrations\, and strategic partnerships\, we will equip our community with tangible pathways toward literacy\, ownership\, and economic growth. \nEvent Flow\n📌The Importance of Small Business Collaboration– Dr. Asheli Atkins President of Greater Houston Black Chambers \n📌 Understanding School Vouchers – Cassandra Brandy\, Founder & CEO of X10EDU and HISD board Member will be Breaking down how school vouchers work\, their impact on education\, and what they mean for families in Houston. \n 📌 RWAR Live Demonstration – A hands-on Reading With A Rapper showcase\, illustrating how music\, technology\, and interactive learning transform literacy education/ \n 📌 Conversation with RWAR Co-Founder/CEO– A powerful discussion on education\, ownership\, and community-building\, featuring RWAR Co-founder\, a cultural icon and advocate for youth empowerment. Moderated by Chelsea Lenora Small\, Publisher of Forward Times Media Group \n\n\n\n  \nREGISTER HERE\n 
URL:https://ghbcc.com/event/the-cypher-townhall-meeting-in-partnership-with-legends-do-live/
LOCATION:The Hive Houston\, 7800 Amelia Road\, Houston\, TX\, 77055\, United States
ATTACH;FMTTYPE=image/jpeg:https://ghbcc.com/wp-content/uploads/2025/06/the-cypher-e1748886662296.jpeg
ORGANIZER;CN="GHBC":MAILTO:info@ghbcc.com
END:VEVENT
END:VCALENDAR